BEGIN:VCALENDAR
VERSION:2.0
PRODID:-//Sørvest Bandyregion//Handlingsplan//NO
CALSCALE:GREGORIAN
BEGIN:VEVENT
UID:69e76e4b6012d@dittdomene.no
DTSTAMP:20260421T123211Z
DTSTART;VALUE=DATE:20250905
DTEND;VALUE=DATE:20250906
SUMMARY:SVBR - Ferdigstille terminlister sesongen 2025/2026
DESCRIPTION:Arrangør: Sørvest Bandyregion\nTema: Aktivitet\n\nFerdigstille terminlister for ordinært seriespill\, Rookie Cup\, Minirunder og Venneliga.
END:VEVENT
END:VCALENDAR
