BEGIN:VCALENDAR
VERSION:2.0
PRODID:-//Sørvest Bandyregion//Handlingsplan//NO
CALSCALE:GREGORIAN
BEGIN:VEVENT
UID:69e76ddc56a43@dittdomene.no
DTSTAMP:20260421T123020Z
DTSTART;VALUE=DATE:20251013
DTEND;VALUE=DATE:20251014
SUMMARY:SØBR - Dommerkurs høsten 2025
DESCRIPTION:Arrangør: Sørøst Bandyregion\nTema: Dommer\n\nKalle inn til dommerkurs høsten 2025.
END:VEVENT
END:VCALENDAR
