BEGIN:VCALENDAR
VERSION:2.0
PRODID:-//Sørvest Bandyregion//Handlingsplan//NO
CALSCALE:GREGORIAN
BEGIN:VEVENT
UID:69e7743b79e23@dittdomene.no
DTSTAMP:20260421T125731Z
DTSTART;VALUE=DATE:20250903
DTEND;VALUE=DATE:20250904
SUMMARY:HBK - Kartlegge behov dommerkurs høsten 2025
DESCRIPTION:Arrangør: Hordaland Bandykrets\nTema: Dommer\n\nLegge ut kartleggingsskjema\, slik at vi får en oversikt over hvem som vil ha dommerkurs.\nDette for å unngå at vi setter i gang kostnader og ingen møter på kurs.
END:VEVENT
END:VCALENDAR
