BEGIN:VCALENDAR
VERSION:2.0
PRODID:-//Sørvest Bandyregion//Handlingsplan//NO
CALSCALE:GREGORIAN
BEGIN:VEVENT
UID:69e76dfcd0477@dittdomene.no
DTSTAMP:20260421T123052Z
DTSTART;VALUE=DATE:20251009
DTEND;VALUE=DATE:20251010
SUMMARY:SVBR - Dommerkurs høsten 2025 Agder
DESCRIPTION:Arrangør: Sørvest Bandyregion\nTema: Dommer\n\nSette opp Dommer Grunnkurs 1 og 2 høsten 2025.
END:VEVENT
END:VCALENDAR
