BEGIN:VCALENDAR
VERSION:2.0
PRODID:-//Sørvest Bandyregion//Handlingsplan//NO
CALSCALE:GREGORIAN
BEGIN:VEVENT
UID:69e76ddd4e3da@dittdomene.no
DTSTAMP:20260421T123021Z
DTSTART;VALUE=DATE:20250926
DTEND;VALUE=DATE:20250927
SUMMARY:SVBR - Dommerkurs høsten 2025 Rogaland
DESCRIPTION:Arrangør: Sørvest Bandyregion\nTema: Dommer\n\nDet er satt opp Dommer Grunnkurs 1 26.-27. september 2025 i Stavanger\, med teoridel i DNB Arena og praksisdel i Madlamark Idrettshall.
END:VEVENT
END:VCALENDAR
