BEGIN:VCALENDAR
VERSION:2.0
PRODID:-//Sørvest Bandyregion//Handlingsplan//NO
CALSCALE:GREGORIAN
BEGIN:VEVENT
UID:69e76dd6e26b6@dittdomene.no
DTSTAMP:20260421T123014Z
DTSTART;VALUE=DATE:20260418
DTEND;VALUE=DATE:20260419
SUMMARY:SVBR - Stavanger Open 2026
DESCRIPTION:Arrangør: Sørvest Bandyregion\nTema: Arrangement\n\nDato for Stavanger Open 2026 blir 18. april 2026.\nGjennomført med 7 EL-innebandylag og 13 Super-innebandylag. \nI tillegg gjennomført den årlige superfesten.
END:VEVENT
END:VCALENDAR
