BEGIN:VCALENDAR
VERSION:2.0
PRODID:-//Sørvest Bandyregion//Handlingsplan//NO
CALSCALE:GREGORIAN
BEGIN:VEVENT
UID:69e76dd768086@dittdomene.no
DTSTAMP:20260421T123015Z
DTSTART;VALUE=DATE:20250908
DTEND;VALUE=DATE:20250909
SUMMARY:NNBR - Dommerkurs høsten 2025
DESCRIPTION:Arrangør: Nord-Norge Bandyregion\nTema: Dommer\n\nSette opp dommerkurs for nye dommere høsten 2025.\nHelst tidlig høst.
END:VEVENT
END:VCALENDAR
