BEGIN:VCALENDAR
VERSION:2.0
PRODID:-//Sørvest Bandyregion//Handlingsplan//NO
CALSCALE:GREGORIAN
BEGIN:VEVENT
UID:69e76e94a637e@dittdomene.no
DTSTAMP:20260421T123324Z
DTSTART;VALUE=DATE:20260519
DTEND;VALUE=DATE:20260520
SUMMARY:SVBR - Klubbkveld Agder
DESCRIPTION:Arrangør: Sørvest Bandyregion\nTema: Organisasjon og ledelse\n\nSørvest Bandyregion inviterer alle klubber i Agder til Klubbkveld tirsdag 19. mai fra kl. 17:30 på Idrettens Hus\, Kristiansand.
END:VEVENT
END:VCALENDAR
