BEGIN:VCALENDAR
VERSION:2.0
PRODID:-//Sørvest Bandyregion//Handlingsplan//NO
CALSCALE:GREGORIAN
BEGIN:VEVENT
UID:69e76f0151593@dittdomene.no
DTSTAMP:20260421T123513Z
DTSTART;VALUE=DATE:20260520
DTEND;VALUE=DATE:20260521
SUMMARY:SVBR - Styremøte 4
DESCRIPTION:Arrangør: Sørvest Bandyregion\nTema: Organisasjon og ledelse\n\nStyremøte i regionen
END:VEVENT
END:VCALENDAR
