BEGIN:VCALENDAR
VERSION:2.0
PRODID:-//Sørvest Bandyregion//Handlingsplan//NO
CALSCALE:GREGORIAN
BEGIN:VEVENT
UID:69e76ee50a26f@dittdomene.no
DTSTAMP:20260421T123445Z
DTSTART;VALUE=DATE:20260616
DTEND;VALUE=DATE:20260617
SUMMARY:SVBR - Møte Ullevål ansatte hele NBF 16.-18. juni
DESCRIPTION:Arrangør: Sørvest Bandyregion\nTema: Organisasjon og ledelse\n\nMøte for ansatte på Ullevål.\nMøte er 16.-18. juni. 
END:VEVENT
END:VCALENDAR
