BEGIN:VCALENDAR
VERSION:2.0
PRODID:-//Sørvest Bandyregion//Handlingsplan//NO
CALSCALE:GREGORIAN
BEGIN:VEVENT
UID:69e76ddeaa4ff@dittdomene.no
DTSTAMP:20260421T123022Z
DTSTART;VALUE=DATE:20260321
DTEND;VALUE=DATE:20260322
SUMMARY:IBR - Regionmesterskap 21.-22. mars
DESCRIPTION:Arrangør: Innlandet Bandyregion\nTema: Arrangement\n\nRM gjennomføres 21.-22. mars i Gausdal Arena.\nDet er påmeldt 45 lag til årets RM og i løpet av helgen skal det spilles totalt 72 innebandykamper.
END:VEVENT
END:VCALENDAR
