BEGIN:VCALENDAR
VERSION:2.0
PRODID:-//Sørvest Bandyregion//Handlingsplan//NO
CALSCALE:GREGORIAN
BEGIN:VEVENT
UID:69e76dde2fc8f@dittdomene.no
DTSTAMP:20260421T123022Z
DTSTART;VALUE=DATE:20260410
DTEND;VALUE=DATE:20260411
SUMMARY:NNBR - Trener 1 kurs 10.-12. april
DESCRIPTION:Arrangør: Nord-Norge Bandyregion\nTema: Trener\n\nVi ønsker velkommen til Trener 1-kurs i Nord-Norge. Formålet med kurset er at deltakerne skal få innsikt i hvilke verdier og holdninger NBF ønsker å stå for. En grunnleggende innføring i teknikk og taktikk\, trenerrollen og hvordan aktiviteten kan organiseres på en motiverende og morsom måte. Kurset er egnet for alle som ønsker å lære mer om innebandy\, både spillere\, foreldre\, trenere\, lagledere og ledere. Det kreves ingen forkunnskaper for å begynne på kurset.\n\nDato: 10.-12. april\nTid: Fredag klokken 18:00-22:00\, Lørdag klokka 08:00-18:00\, søndag 08:00-16:00\nSted: Mørkvedhallen\, Bodø\nPåmeldingsavgift: 3000\,- (faktureres tilhørende klubb)\nInstruktører: Johanna Ragnarsson og Pablo Vargas
END:VEVENT
END:VCALENDAR
