BEGIN:VCALENDAR
VERSION:2.0
PRODID:-//Sørvest Bandyregion//Handlingsplan//NO
CALSCALE:GREGORIAN
BEGIN:VEVENT
UID:69e76ee483c46@dittdomene.no
DTSTAMP:20260421T123444Z
DTSTART;VALUE=DATE:20260408
DTEND;VALUE=DATE:20260409
SUMMARY:NBF - Ekstraordinært forbundsting
DESCRIPTION:Arrangør: Norges Bandyforbund\nTema: Organisasjon og ledelse\n\nDet vil bli avholdt ekstraordinært forbundsting 8. april der lisensordningen skal behandles. Innkalling og sakspapirer publiseres innen fristen.
END:VEVENT
END:VCALENDAR
