BEGIN:VCALENDAR
VERSION:2.0
PRODID:-//Sørvest Bandyregion//Handlingsplan//NO
CALSCALE:GREGORIAN
BEGIN:VEVENT
UID:69e76ea7e781b@dittdomene.no
DTSTAMP:20260421T123343Z
DTSTART;VALUE=DATE:20260323
DTEND;VALUE=DATE:20260324
SUMMARY:NBF - Webinar lisensordningen
DESCRIPTION:Arrangør: Norges Bandyforbund\nTema: Organisasjon og ledelse\n\nNorges Bandyforbund inviterer til et åpent og informativt webinar om evaluering av dagens lisensordning og mulige endringer for fremtiden. Det vil bli avholdt ekstraordinært forbundsting 8. april der lisensordningen skal behandles. Innkalling og sakspapirer publiseres innen fristen.
END:VEVENT
END:VCALENDAR
