BEGIN:VCALENDAR
VERSION:2.0
PRODID:-//Sørvest Bandyregion//Handlingsplan//NO
CALSCALE:GREGORIAN
BEGIN:VEVENT
UID:69e76e8d93f13@dittdomene.no
DTSTAMP:20260421T123317Z
DTSTART;VALUE=DATE:20260131
DTEND;VALUE=DATE:20260201
SUMMARY:MNBR - Trondheim Open EL-innebandy
DESCRIPTION:Arrangør: Midt-Norge Bandyregion\nTema: Arrangement\n\nNyborg IL EL-innebandy ønsker alle velkommen til Krafthallen på Ranheim\, lørdag 31. januar 2026
END:VEVENT
END:VCALENDAR
