BEGIN:VCALENDAR
VERSION:2.0
PRODID:-//Sørvest Bandyregion//Handlingsplan//NO
CALSCALE:GREGORIAN
BEGIN:VEVENT
UID:69e76da74ea9a@dittdomene.no
DTSTAMP:20260421T122927Z
DTSTART;VALUE=DATE:20260304
DTEND;VALUE=DATE:20260305
SUMMARY:SVBR - Møte Jenteutvalget 4/2026
DESCRIPTION:Arrangør: Sørvest Bandyregion\nTema: Organisasjon og ledelse\n\nMøte Jenteutvlget kl 17:30-18:30. 
END:VEVENT
END:VCALENDAR
