BEGIN:VCALENDAR
VERSION:2.0
PRODID:-//Sørvest Bandyregion//Handlingsplan//NO
CALSCALE:GREGORIAN
BEGIN:VEVENT
UID:69e76dfdd03f0@dittdomene.no
DTSTAMP:20260421T123053Z
DTSTART;VALUE=DATE:20260304
DTEND;VALUE=DATE:20260305
SUMMARY:SVBR - Møte Stavanger Open
DESCRIPTION:Arrangør: Sørvest Bandyregion\nTema: Organisasjon og ledelse\n\nMøte Stavanger Open kl 16:00-17:30.
END:VEVENT
END:VCALENDAR
