BEGIN:VCALENDAR
VERSION:2.0
PRODID:-//Sørvest Bandyregion//Handlingsplan//NO
CALSCALE:GREGORIAN
BEGIN:VEVENT
UID:69e76da6320db@dittdomene.no
DTSTAMP:20260421T122926Z
DTSTART;VALUE=DATE:20260422
DTEND;VALUE=DATE:20260423
SUMMARY:SVBR - Hallfordelingsmøte Rogaland
DESCRIPTION:Arrangør: Sørvest Bandyregion\nTema: Arrangement\n\nHallfordelingsmøte Stavanger\, Sandnes\, Gjesdal\, Sola\, Randaberg\, Time m.fl
END:VEVENT
END:VCALENDAR
