BEGIN:VCALENDAR
VERSION:2.0
PRODID:-//Sørvest Bandyregion//Handlingsplan//NO
CALSCALE:GREGORIAN
BEGIN:VEVENT
UID:69e76da8c9d46@dittdomene.no
DTSTAMP:20260421T122928Z
DTSTART;VALUE=DATE:20260322
DTEND;VALUE=DATE:20260323
SUMMARY:SVBR - Minirunde Kvernevikhallen\, Rogaland
DESCRIPTION:Arrangør: Sørvest Bandyregion\nTema: Arrangement\n\nMinirunde 7. mars 2026 Kvernevikhallen\, Rogaland
END:VEVENT
END:VCALENDAR
