BEGIN:VCALENDAR
VERSION:2.0
PRODID:-//Sørvest Bandyregion//Handlingsplan//NO
CALSCALE:GREGORIAN
BEGIN:VEVENT
UID:69e76dfb7c62b@dittdomene.no
DTSTAMP:20260421T123051Z
DTSTART;VALUE=DATE:20260307
DTEND;VALUE=DATE:20260308
SUMMARY:SVBR - Minirunde Riskahallen\, Rogaland
DESCRIPTION:Arrangør: Sørvest Bandyregion\nTema: Arrangement\n\nMinirunde 7. mars 2026 Riskahallen\, Rogaland\nGjennomført med 40 lag.
END:VEVENT
END:VCALENDAR
