BEGIN:VCALENDAR
VERSION:2.0
PRODID:-//Sørvest Bandyregion//Handlingsplan//NO
CALSCALE:GREGORIAN
BEGIN:VEVENT
UID:69e76ee309864@dittdomene.no
DTSTAMP:20260421T123443Z
DTSTART;VALUE=DATE:20260215
DTEND;VALUE=DATE:20260216
SUMMARY:SVBR - Minirunde Lurahallen\, Rogaland
DESCRIPTION:Arrangør: Sørvest Bandyregion\nTema: Arrangement\n\nGjennomført med 54 lag.
END:VEVENT
END:VCALENDAR
