BEGIN:VCALENDAR
VERSION:2.0
PRODID:-//Sørvest Bandyregion//Handlingsplan//NO
CALSCALE:GREGORIAN
BEGIN:VEVENT
UID:69e76e48bc005@dittdomene.no
DTSTAMP:20260421T123208Z
DTSTART;VALUE=DATE:20260411
DTEND;VALUE=DATE:20260412
SUMMARY:SVBR - Minirunde Frøyslandhallen\, Agder
DESCRIPTION:Arrangør: Sørvest Bandyregion\nTema: Arrangement\n\nMinirunde i Frøyslandhallen\, Agder.
END:VEVENT
END:VCALENDAR
