BEGIN:VCALENDAR
VERSION:2.0
PRODID:-//Sørvest Bandyregion//Handlingsplan//NO
CALSCALE:GREGORIAN
BEGIN:VEVENT
UID:69e76e93a6976@dittdomene.no
DTSTAMP:20260421T123323Z
DTSTART;VALUE=DATE:20260314
DTEND;VALUE=DATE:20260315
SUMMARY:SVBR - Minirunde Havlimyrhallen\, Agder
DESCRIPTION:Arrangør: Sørvest Bandyregion\nTema: Arrangement\n\nMinirunde i Havlimyrhallen\, Agder.
END:VEVENT
END:VCALENDAR
