BEGIN:VCALENDAR
VERSION:2.0
PRODID:-//Sørvest Bandyregion//Handlingsplan//NO
CALSCALE:GREGORIAN
BEGIN:VEVENT
UID:69e76e29d94e2@dittdomene.no
DTSTAMP:20260421T123137Z
DTSTART;VALUE=DATE:20260207
DTEND;VALUE=DATE:20260208
SUMMARY:SVBR - Minirunde Hellemyrhallen\, Agder
DESCRIPTION:Arrangør: Sørvest Bandyregion\nTema: Arrangement\n\nMinirunde i Hellemyrhallen\, Agder.\nGjennomført med 14 lag.
END:VEVENT
END:VCALENDAR
