BEGIN:VCALENDAR
VERSION:2.0
PRODID:-//Sørvest Bandyregion//Handlingsplan//NO
CALSCALE:GREGORIAN
BEGIN:VEVENT
UID:69e76e2a5f468@dittdomene.no
DTSTAMP:20260421T123138Z
DTSTART;VALUE=DATE:20260418
DTEND;VALUE=DATE:20260419
SUMMARY:MNBR - Minirunde Gimshallen\, Melhus
DESCRIPTION:Arrangør: Midt-Norge Bandyregion\nTema: Arrangement\n\nSesongens siste Minirunde 18.-19. april 2027.\nArrangeres av Melhus IL i Gimshallen.
END:VEVENT
END:VCALENDAR
