BEGIN:VCALENDAR
VERSION:2.0
PRODID:-//Sørvest Bandyregion//Handlingsplan//NO
CALSCALE:GREGORIAN
BEGIN:VEVENT
UID:69e76e942be72@dittdomene.no
DTSTAMP:20260421T123324Z
DTSTART;VALUE=DATE:20260501
DTEND;VALUE=DATE:20260502
SUMMARY:Innebandy - NM-Cup og Lions Cup\, Rykkinhallen
DESCRIPTION:Arrangør: Innebandyseksjonen\nTema: Arrangement\n\nBVH el-innebandy og Norges Bandyforbund inviterer til NM-cup og Lions Cup i Rykkinnhallen 1.-3. mars. 
END:VEVENT
END:VCALENDAR
