BEGIN:VCALENDAR
VERSION:2.0
PRODID:-//Sørvest Bandyregion//Handlingsplan//NO
CALSCALE:GREGORIAN
BEGIN:VEVENT
UID:69e76ee21ad07@dittdomene.no
DTSTAMP:20260421T123442Z
DTSTART;VALUE=DATE:20260321
DTEND;VALUE=DATE:20260322
SUMMARY:HBK - Minirunde Kalandshallen
DESCRIPTION:Arrangør: Hordaland Bandykrets\nTema: Arrangement\n\nMinirunde i kalandshallen. 
END:VEVENT
END:VCALENDAR
