BEGIN:VCALENDAR
VERSION:2.0
PRODID:-//Sørvest Bandyregion//Handlingsplan//NO
CALSCALE:GREGORIAN
BEGIN:VEVENT
UID:69e76e4a5fa54@dittdomene.no
DTSTAMP:20260421T123210Z
DTSTART;VALUE=DATE:20260315
DTEND;VALUE=DATE:20260316
SUMMARY:HBK - 3vs3 Challenge Vitalitetssenteret
DESCRIPTION:Arrangør: Hordaland Bandykrets\nTema: Arrangement\n\n15. mars er det klart for 3vs3 Challenge i Vitalitetssenteret.\nAvlyst - kun 2 lag påmeldt.
END:VEVENT
END:VCALENDAR
