BEGIN:VCALENDAR
VERSION:2.0
PRODID:-//Sørvest Bandyregion//Handlingsplan//NO
CALSCALE:GREGORIAN
BEGIN:VEVENT
UID:69e76e2b5f15c@dittdomene.no
DTSTAMP:20260421T123139Z
DTSTART;VALUE=DATE:20260410
DTEND;VALUE=DATE:20260411
SUMMARY:MNBR - Tigers Løkkecup 2026
DESCRIPTION:Arrangør: Midt-Norge Bandyregion\nTema: Arrangement\n\nLøkkebandycup for spillere spilleberettiget til Løkkebandy. Lag utenfor Trondheimsområdet vurderes om de er tillatt å delta ved forespørsel. 
END:VEVENT
END:VCALENDAR
