BEGIN:VCALENDAR
VERSION:2.0
PRODID:-//Sørvest Bandyregion//Handlingsplan//NO
CALSCALE:GREGORIAN
BEGIN:VEVENT
UID:69e76e48bbf7c@dittdomene.no
DTSTAMP:20260421T123208Z
DTSTART;VALUE=DATE:20260112
DTEND;VALUE=DATE:20260113
SUMMARY:Bandy - VM for herrer og damer
DESCRIPTION:Arrangør: Bandyseksjonen\nTema: Arrangement\n\nVM for herrer og damer arrangeres i Pori i Finland fra 12. til 18. januar 2026.
END:VEVENT
END:VCALENDAR
