BEGIN:VCALENDAR
VERSION:2.0
PRODID:-//Sørvest Bandyregion//Handlingsplan//NO
CALSCALE:GREGORIAN
BEGIN:VEVENT
UID:69e76e2972841@dittdomene.no
DTSTAMP:20260421T123137Z
DTSTART;VALUE=DATE:20260425
DTEND;VALUE=DATE:20260426
SUMMARY:OABR - Regionsting 2026
DESCRIPTION:Arrangør: Oslo og Akershus Bandyregion\nTema: Organisasjon og ledelse\n\nRegionstinget avholdes på Hotel 33 Økern lørdag 25. april 2026 kl. 13.00.
END:VEVENT
END:VCALENDAR
