BEGIN:VCALENDAR
VERSION:2.0
PRODID:-//Sørvest Bandyregion//Handlingsplan//NO
CALSCALE:GREGORIAN
BEGIN:VEVENT
UID:69e76f0151522@dittdomene.no
DTSTAMP:20260421T123513Z
DTSTART;VALUE=DATE:20260619
DTEND;VALUE=DATE:20260620
SUMMARY:SVBR - Ungdomscamp på Ogna 2026
DESCRIPTION:Arrangør: Sørvest Bandyregion\nTema: Aktivitet\n\nVi gjentar fjorårets suksess med camp på Ogna i starten av skolesommerferien!\nEr du en aktiv spiller fra 2009-2012 som ønsker å bli med på overnattingscamp 19. -21. juni med andre ivrige innebandyspillere og dyktige instruktører?
END:VEVENT
END:VCALENDAR
