BEGIN:VCALENDAR
VERSION:2.0
PRODID:-//Sørvest Bandyregion//Handlingsplan//NO
CALSCALE:GREGORIAN
BEGIN:VEVENT
UID:69e76e4964da5@dittdomene.no
DTSTAMP:20260421T123209Z
DTSTART;VALUE=DATE:20260412
DTEND;VALUE=DATE:20260413
SUMMARY:NNBR - Styremøte og klubbkveld
DESCRIPTION:Arrangør: Nord-Norge Bandyregion\nTema: Organisasjon og ledelse\n\nStyremøte og klubbkveld 12. april 2026.
END:VEVENT
END:VCALENDAR
