BEGIN:VCALENDAR
VERSION:2.0
PRODID:-//Sørvest Bandyregion//Handlingsplan//NO
CALSCALE:GREGORIAN
BEGIN:VEVENT
UID:69e76e521516a@dittdomene.no
DTSTAMP:20260421T123218Z
DTSTART;VALUE=DATE:20260301
DTEND;VALUE=DATE:20260302
SUMMARY:NNBR - Styremøte
DESCRIPTION:Arrangør: Nord-Norge Bandyregion\nTema: Organisasjon og ledelse\n\nStyremøte 1. mars 2026
END:VEVENT
END:VCALENDAR
