BEGIN:VCALENDAR
VERSION:2.0
PRODID:-//Sørvest Bandyregion//Handlingsplan//NO
CALSCALE:GREGORIAN
BEGIN:VEVENT
UID:69e76e521fa14@dittdomene.no
DTSTAMP:20260421T123218Z
DTSTART;VALUE=DATE:20260201
DTEND;VALUE=DATE:20260202
SUMMARY:NNBR - Styremøte
DESCRIPTION:Arrangør: Nord-Norge Bandyregion\nTema: Organisasjon og ledelse\n\nStyremøte 1. februar 2026
END:VEVENT
END:VCALENDAR
