BEGIN:VCALENDAR
VERSION:2.0
PRODID:-//Sørvest Bandyregion//Handlingsplan//NO
CALSCALE:GREGORIAN
BEGIN:VEVENT
UID:69e76dfd564e8@dittdomene.no
DTSTAMP:20260421T123053Z
DTSTART;VALUE=DATE:20260415
DTEND;VALUE=DATE:20260416
SUMMARY:SVBR - Trener 1 kurs Stavanger
DESCRIPTION:Arrangør: Sørvest Bandyregion\nTema: Trener\n\nTrener 1 kurs over 5 moduler.\n15. april til 27. mai 2026.
END:VEVENT
END:VCALENDAR
