BEGIN:VCALENDAR
VERSION:2.0
PRODID:-//Sørvest Bandyregion//Handlingsplan//NO
CALSCALE:GREGORIAN
BEGIN:VEVENT
UID:69e76ea8eb538@dittdomene.no
DTSTAMP:20260421T123344Z
DTSTART;VALUE=DATE:20260605
DTEND;VALUE=DATE:20260606
SUMMARY:OABR - ÆlgCup 2026
DESCRIPTION:Arrangør: Oslo og Akershus Bandyregion\nTema: Arrangement\n\nÆlgCup 2026\nRælingen 5.-7. juni 2026 i Fjerdingbyhallen
END:VEVENT
END:VCALENDAR
