BEGIN:VCALENDAR
VERSION:2.0
PRODID:-//Sørvest Bandyregion//Handlingsplan//NO
CALSCALE:GREGORIAN
BEGIN:VEVENT
UID:69e76e8b18dbb@dittdomene.no
DTSTAMP:20260421T123315Z
DTSTART;VALUE=DATE:20260507
DTEND;VALUE=DATE:20260508
SUMMARY:Innebandy - Spiller- og trenerutviklingscamp 2026
DESCRIPTION:Arrangør: Innebandyseksjonen\nTema: Arrangement\n\nSTU26 gjennomfører tredje fysiske samling i Skien Fritidspark 7.-10.mai 2026 og gjelder primært gutter og jenter født i 2008\, 2009\, 2010 og 2011 men det er åpent for nærliggende årskull ved plass (ta kontakt med ansvarlige). Spesielt hyggelig er det hvis våre 2007-er blir med igjen for tredje året.
END:VEVENT
END:VCALENDAR
