BEGIN:VCALENDAR
VERSION:2.0
PRODID:-//Sørvest Bandyregion//Handlingsplan//NO
CALSCALE:GREGORIAN
BEGIN:VEVENT
UID:69e76e5521572@dittdomene.no
DTSTAMP:20260421T123221Z
DTSTART;VALUE=DATE:20260314
DTEND;VALUE=DATE:20260315
SUMMARY:Innebandy - Superturnering Ski
DESCRIPTION:Arrangør: Innebandyseksjonen\nTema: Arrangement\n\nSki IL Innebandy\, Oslo og Akershus Bandyregion og Norges Bandyforbund inviterer til turnering i Super-innebandy.\nSted: Ski Alliansehall\, Idrettsveien 35 B\, 1400 Ski\nSki Alliansehall – Google Maps\n\nVi trenger påmelding innen fredag 22. februar\, både fra lag og fra eventuelle enkeltspillere som ønsker å delta på mikslag.\n\nPåmelding sendes til:\nannkatrin.eriksson@bandyforbundet.no\n\nVi planlegger et dagsarrangement fra kl. 11 til 15.\n\nVi spiller med 3 utespillere og små mål\, uten målvakt. Kamptid 1 x 15 minutter eller 1 x 10 minutter\, avhengig av hvor mange lag vi blir. Vi har kun en bane å spille på\, og lager et oppsett ut i fra det.\n\nDet vil være minirunde samtidig i hallen.
END:VEVENT
END:VCALENDAR
