BEGIN:VCALENDAR
VERSION:2.0
PRODID:-//Sørvest Bandyregion//Handlingsplan//NO
CALSCALE:GREGORIAN
BEGIN:VEVENT
UID:69e76ddc56af4@dittdomene.no
DTSTAMP:20260421T123020Z
DTSTART;VALUE=DATE:20260522
DTEND;VALUE=DATE:20260523
SUMMARY:Innebandy - Internasjonal helg (landslagssamlinger)
DESCRIPTION:Arrangør: Innebandyseksjonen\nTema: Arrangement\n\nInternasjonal helg med landslagssamlinger 22.-24. mai 2026
END:VEVENT
END:VCALENDAR
