BEGIN:VCALENDAR
VERSION:2.0
PRODID:-//Sørvest Bandyregion//Handlingsplan//NO
CALSCALE:GREGORIAN
BEGIN:VEVENT
UID:69e76e297297c@dittdomene.no
DTSTAMP:20260421T123137Z
DTSTART;VALUE=DATE:20260307
DTEND;VALUE=DATE:20260308
SUMMARY:Bandy - NM-finale Herrer
DESCRIPTION:Arrangør: Bandyseksjonen\nTema: Arrangement\n\nNM-finale for herrer på Bærum Idrettspark.\nDrammen - Stabæk 6-5
END:VEVENT
END:VCALENDAR
