BEGIN:VCALENDAR
VERSION:2.0
PRODID:-//Sørvest Bandyregion//Handlingsplan//NO
CALSCALE:GREGORIAN
BEGIN:VEVENT
UID:69e76e932b965@dittdomene.no
DTSTAMP:20260421T123323Z
DTSTART;VALUE=DATE:20260306
DTEND;VALUE=DATE:20260307
SUMMARY:Bandy - NM-finale Damer
DESCRIPTION:Arrangør: Bandyseksjonen\nTema: Arrangement\n\nNM-finale for damer på Bærum Idrettspark.\nUllevål - Ready 6-3
END:VEVENT
END:VCALENDAR
