BEGIN:VCALENDAR
VERSION:2.0
PRODID:-//Sørvest Bandyregion//Handlingsplan//NO
CALSCALE:GREGORIAN
BEGIN:VEVENT
UID:69e76ddf303c3@dittdomene.no
DTSTAMP:20260421T123023Z
DTSTART;VALUE=DATE:20260218
DTEND;VALUE=DATE:20260219
SUMMARY:SVBR - Møte Sportslig Utvalg Agder 1/2026
DESCRIPTION:Arrangør: Sørvest Bandyregion\nTema: Organisasjon og ledelse\n\nMøte Sportslig Utvalg Agder.\nIngen innkomne saker. 
END:VEVENT
END:VCALENDAR
