BEGIN:VCALENDAR
VERSION:2.0
PRODID:-//Sørvest Bandyregion//Handlingsplan//NO
CALSCALE:GREGORIAN
BEGIN:VEVENT
UID:69e76e92d20ca@dittdomene.no
DTSTAMP:20260421T123322Z
DTSTART;VALUE=DATE:20260311
DTEND;VALUE=DATE:20260312
SUMMARY:SVBR - Møte Sportslig Utvalg Rogaland 3/2026
DESCRIPTION:Arrangør: Sørvest Bandyregion\nTema: Organisasjon og ledelse\n\nMøte Sportslig Utvalg Rogaland.
END:VEVENT
END:VCALENDAR
