BEGIN:VCALENDAR
VERSION:2.0
PRODID:-//Sørvest Bandyregion//Handlingsplan//NO
CALSCALE:GREGORIAN
BEGIN:VEVENT
UID:69e76ee38352b@dittdomene.no
DTSTAMP:20260421T123443Z
DTSTART;VALUE=DATE:20260216
DTEND;VALUE=DATE:20260217
SUMMARY:SVBR - Møte Stavanger Open
DESCRIPTION:Arrangør: Sørvest Bandyregion\nTema: Organisasjon og ledelse\n\nMøte Stavanger Open.\nPlanlegging dugnad og beregning av antall lag og oppsett.
END:VEVENT
END:VCALENDAR
