BEGIN:VCALENDAR
VERSION:2.0
PRODID:-//Sørvest Bandyregion//Handlingsplan//NO
CALSCALE:GREGORIAN
BEGIN:VEVENT
UID:69e76ea96ec2f@dittdomene.no
DTSTAMP:20260421T123345Z
DTSTART;VALUE=DATE:20260218
DTEND;VALUE=DATE:20260219
SUMMARY:SVBR - Møte Sportslig Utvalg Rogaland 2/2026
DESCRIPTION:Arrangør: Sørvest Bandyregion\nTema: Organisasjon og ledelse\n\nMøte Sportslig Utvalg Rogaland.\nAnsvarlig: Børge Andreassen
END:VEVENT
END:VCALENDAR
