BEGIN:VCALENDAR
VERSION:2.0
PRODID:-//Sørvest Bandyregion//Handlingsplan//NO
CALSCALE:GREGORIAN
BEGIN:VEVENT
UID:69e76e529a13e@dittdomene.no
DTSTAMP:20260421T123218Z
DTSTART;VALUE=DATE:20260521
DTEND;VALUE=DATE:20260522
SUMMARY:IBR - Regionsting 2026
DESCRIPTION:Arrangør: Innlandet Bandyregion\nTema: Organisasjon og ledelse\n\nÅrsmøte Innlandet Bandyregion\nSted: Idrettens Hus\, Løvstadvegen 7\, 2312 Ottestad\nDato/tid: 21.05.2026\, kl. 19.00
END:VEVENT
END:VCALENDAR
