BEGIN:VCALENDAR
VERSION:2.0
PRODID:-//Sørvest Bandyregion//Handlingsplan//NO
CALSCALE:GREGORIAN
BEGIN:VEVENT
UID:69e76dfc561ad@dittdomene.no
DTSTAMP:20260421T123052Z
DTSTART;VALUE=DATE:20260622
DTEND;VALUE=DATE:20260623
SUMMARY:Hockey - Årsmøte (ting) hockeyseksjonen 2026
DESCRIPTION:Arrangør: Landhockeyseksjonen\nTema: Organisasjon og ledelse\n\nÅrsmøte landhockeyseksjonen
END:VEVENT
END:VCALENDAR
