BEGIN:VCALENDAR
VERSION:2.0
PRODID:-//Sørvest Bandyregion//Handlingsplan//NO
CALSCALE:GREGORIAN
BEGIN:VEVENT
UID:69e76e49da1c5@dittdomene.no
DTSTAMP:20260421T123209Z
DTSTART;VALUE=DATE:20260109
DTEND;VALUE=DATE:20260110
SUMMARY:Hockey - EM Klementsrudhallen
DESCRIPTION:Arrangør: Landhockeyseksjonen\nTema: Arrangement\n\nFra 9. til 11. januar 2026 arrangerte Norsk Landhockey EuroHockey Indoor Championships II-B turneringen i Klemetsrudhallen i Oslo.
END:VEVENT
END:VCALENDAR
