BEGIN:VCALENDAR
VERSION:2.0
PRODID:-//Sørvest Bandyregion//Handlingsplan//NO
CALSCALE:GREGORIAN
BEGIN:VEVENT
UID:69e76da84ed5c@dittdomene.no
DTSTAMP:20260421T122928Z
DTSTART;VALUE=DATE:20260326
DTEND;VALUE=DATE:20260327
SUMMARY:Bandy - VM G19\, VM J17\, VM G17
DESCRIPTION:Arrangør: Bandyseksjonen\nTema: Arrangement\n\nVM i Uppsala 26.-29. mars 2026.
END:VEVENT
END:VCALENDAR
